BEGIN:VCALENDAR
VERSION:2.0
PRODID:-//ZContent.net//Zap Calendar 1.0//EN
CALSCALE:GREGORIAN
METHOD:PUBLISH
BEGIN:VTIMEZONE
TZID:Dateline Standard Time
BEGIN:STANDARD
DTSTART:16010101T000000
TZOFFSETFROM:-1200
TZOFFSETTO:-1200
END:STANDARD
END:VTIMEZONE
BEGIN:VEVENT
SUMMARY:American Mensa Annual Gathering 2026
UID:9FE1A243-500B-43CF-96842DFCB8BB5813
SEQUENCE:0
STATUS:CONFIRMED
TRANSP:TRANSPARENT
DTSTART;TZID=US/Central:20260701T120000
DTEND;TZID=US/Central:20260705T120000
CATEGORIES:National Meeting
LOCATION:
DESCRIPTION:Set your coordinates for a Texas-sized celebration at Annual Gathering 2026, July 1–5! Fort Worth is bursting with history, music, food, art, and true Lone Star spirit — and we get to enjoy it all week. Reconnect with old friends, make new ones, and experience a time you'll never forget.\n\nMore Information: https://www.us.mensa.org/attend/calendar/entries/american-mensa-annual-gathering-2026
URL:https://www.us.mensa.org/attend/calendar/entries/american-mensa-annual-gathering-2026
END:VEVENT
END:VCALENDAR