BEGIN:VCALENDAR
VERSION:2.0
PRODID:-//ZContent.net//Zap Calendar 1.0//EN
CALSCALE:GREGORIAN
METHOD:PUBLISH
BEGIN:VTIMEZONE
TZID:Dateline Standard Time
BEGIN:STANDARD
DTSTART:16010101T000000
TZOFFSETFROM:-1200
TZOFFSETTO:-1200
END:STANDARD
END:VTIMEZONE
BEGIN:VEVENT
SUMMARY:Theodore Talk: Saving the World with Cheap, Generic Toys
UID:4E3747AB-D1AF-457A-A4FBAE803D649F67
SEQUENCE:0
STATUS:CONFIRMED
TRANSP:TRANSPARENT
DTSTART;TZID=US/Central:20261025T143000
DTEND;TZID=US/Central:20261025T153000
CATEGORIES:Virtual meeting
LOCATION:
DESCRIPTION:Brian McCarty’s War Toys® project adds “humanitarian heroes” to classic toy soldiers, transforming play from conflict-focused to more thoughtful, peaceful scenarios — proving small design changes can shape generations.\n\nMore Information: https://www.us.mensa.org/attend/calendar/entries/theodore-talk-saving-the-world-with-cheap-generic-toys
URL:https://www.us.mensa.org/attend/calendar/entries/theodore-talk-saving-the-world-with-cheap-generic-toys
END:VEVENT
END:VCALENDAR