BEGIN:VCALENDAR
VERSION:2.0
PRODID:-//ZContent.net//Zap Calendar 1.0//EN
CALSCALE:GREGORIAN
METHOD:PUBLISH
BEGIN:VTIMEZONE
TZID:Dateline Standard Time
BEGIN:STANDARD
DTSTART:16010101T000000
TZOFFSETFROM:-1200
TZOFFSETTO:-1200
END:STANDARD
END:VTIMEZONE
BEGIN:VEVENT
SUMMARY:American Mensa Committee Meeting
UID:D924D90F-1237-4DFA-98AEDE91F275CDF7
SEQUENCE:0
STATUS:CONFIRMED
TRANSP:TRANSPARENT
DTSTART;TZID=US/Central:20270320T100000
DTEND;TZID=US/Central:20270320T170000
CATEGORIES:Committee Meeting
LOCATION:
DESCRIPTION:A meeting of the American Mensa Committee will be held (location TBD) on Saturday, March 20, starting at 10 a.m., Central time.\n\nMore Information: https://www.us.mensa.org/attend/calendar/entries/american-mensa-committee-meeting28
URL:https://www.us.mensa.org/attend/calendar/entries/american-mensa-committee-meeting28
END:VEVENT
END:VCALENDAR