BEGIN:VCALENDAR
VERSION:2.0
PRODID:-//ZContent.net//Zap Calendar 1.0//EN
CALSCALE:GREGORIAN
METHOD:PUBLISH
BEGIN:VTIMEZONE
TZID:Dateline Standard Time
BEGIN:STANDARD
DTSTART:16010101T000000
TZOFFSETFROM:-1200
TZOFFSETTO:-1200
END:STANDARD
END:VTIMEZONE
BEGIN:VEVENT
SUMMARY:Theodore Talk: The NASA Psyche Mission: First Journey to a Metal World
UID:4E0B0C7B-5540-4675-A08334AD9922B6CE
SEQUENCE:0
STATUS:CONFIRMED
TRANSP:TRANSPARENT
DTSTART;TZID=US/Central:20260628T143000
DTEND;TZID=US/Central:20260628T153000
CATEGORIES:Virtual meeting
LOCATION:
DESCRIPTION:What if we could visit a planet’s metal core? Join Lindy Elkins-Tanton, principal investigator of NASA’s Psyche mission, for a fascinating look at asteroid Psyche — a rare, metal-rich world that may reveal how rocky planets like Earth were built. She’ll share what we know, what we hope to discover, and how the mission is navigating its journey toward orbit in 2029.\n\nMore Information: https://www.us.mensa.org/attend/calendar/entries/theodore-talk-the-nasa-psyche-mission-first-journey-to-a-metal-world
URL:https://www.us.mensa.org/attend/calendar/entries/theodore-talk-the-nasa-psyche-mission-first-journey-to-a-metal-world
END:VEVENT
END:VCALENDAR