BEGIN:VCALENDAR
VERSION:2.0
PRODID:-//ZContent.net//Zap Calendar 1.0//EN
CALSCALE:GREGORIAN
METHOD:PUBLISH
BEGIN:VTIMEZONE
TZID:Dateline Standard Time
BEGIN:STANDARD
DTSTART:16010101T000000
TZOFFSETFROM:-1200
TZOFFSETTO:-1200
END:STANDARD
END:VTIMEZONE
BEGIN:VEVENT
SUMMARY:Theodore Talk: Born Smart or Built Smart? The Truth About Intelligence and Effort
UID:44E4432A-D8C4-4E64-8F2F8682BC97B39A
SEQUENCE:0
STATUS:CONFIRMED
TRANSP:TRANSPARENT
DTSTART;TZID=US/Central:20260726T143000
DTEND;TZID=US/Central:20260726T153000
CATEGORIES:Virtual meeting
LOCATION:
DESCRIPTION:What matters more — natural ability or how you use it? In this talk, Alexander Puutio, Adjunct Professor at Columbia University and author of AI for MBAs, explores how intelligence is built through curiosity, resilience, and deliberate practice. He’ll challenge static views of IQ and offer practical insights on how individuals and organizations can make intelligence truly count.\n\nMore Information: https://www.us.mensa.org/attend/calendar/entries/theodore-talk-born-smart-or-built-smart-the-truth-about-intelligence-and-effort
URL:https://www.us.mensa.org/attend/calendar/entries/theodore-talk-born-smart-or-built-smart-the-truth-about-intelligence-and-effort
END:VEVENT
END:VCALENDAR