BEGIN:VCALENDAR
VERSION:2.0
PRODID:-//ZContent.net//Zap Calendar 1.0//EN
CALSCALE:GREGORIAN
METHOD:PUBLISH
BEGIN:VTIMEZONE
TZID:Dateline Standard Time
BEGIN:STANDARD
DTSTART:16010101T000000
TZOFFSETFROM:-1200
TZOFFSETTO:-1200
END:STANDARD
END:VTIMEZONE
BEGIN:VEVENT
SUMMARY:American Mensa Committee Meeting
UID:146A1359-9D10-406A-8A282419D799CD2B
SEQUENCE:0
STATUS:CONFIRMED
TRANSP:TRANSPARENT
DTSTART;TZID=US/Central:20260926T100000
DTEND;TZID=US/Central:20260926T170000
CATEGORIES:Committee Meeting
LOCATION:
DESCRIPTION:A meeting of the American Mensa Committee will be held at the National Office in Hurst, TX, on Saturday, Sept. 26, starting at 10 a.m., Central time.\n\nMore Information: https://www.us.mensa.org/attend/calendar/entries/american-mensa-committee-meeting25
URL:https://www.us.mensa.org/attend/calendar/entries/american-mensa-committee-meeting25
END:VEVENT
END:VCALENDAR