BEGIN:VCALENDAR
VERSION:2.0
PRODID:-//ZContent.net//Zap Calendar 1.0//EN
CALSCALE:GREGORIAN
METHOD:PUBLISH
BEGIN:VTIMEZONE
TZID:Dateline Standard Time
BEGIN:STANDARD
DTSTART:16010101T000000
TZOFFSETFROM:-1200
TZOFFSETTO:-1200
END:STANDARD
END:VTIMEZONE
BEGIN:VEVENT
SUMMARY:American Mensa Committee Meeting
UID:F59E3740-71A4-4F31-8473752AD4762FC5
SEQUENCE:0
STATUS:CONFIRMED
TRANSP:TRANSPARENT
DTSTART;TZID=US/Central:20260702T090000
DTEND;TZID=US/Central:20260702T120000
CATEGORIES:Committee Meeting
LOCATION:Fort Worth, TX
DESCRIPTION:A meeting of the American Mensa Committee will be held at the 2026 Annual Gathering in Fort Worth, TX, on Thursday, July 2 (exact time TBD).\n\nMore Information: https://www.us.mensa.org/attend/calendar/entries/american-mensa-committee-meeting22
URL:https://www.us.mensa.org/attend/calendar/entries/american-mensa-committee-meeting22
END:VEVENT
END:VCALENDAR