BEGIN:VCALENDAR
VERSION:2.0
PRODID:-//ZContent.net//Zap Calendar 1.0//EN
CALSCALE:GREGORIAN
METHOD:PUBLISH
BEGIN:VTIMEZONE
TZID:Dateline Standard Time
BEGIN:STANDARD
DTSTART:16010101T000000
TZOFFSETFROM:-1200
TZOFFSETTO:-1200
END:STANDARD
END:VTIMEZONE
BEGIN:VEVENT
SUMMARY:CultureQuest® XXXVII
UID:302C63B6-4DDC-49E4-81B3E304AD440B9F
SEQUENCE:0
STATUS:CONFIRMED
TRANSP:TRANSPARENT
DTSTART;TZID=US/Central:20260426T150000
DTEND;TZID=US/Central:20260426T163000
CATEGORIES:Local Group Meeting
LOCATION:Hurst, TX
DESCRIPTION:data-pm-slice="1 1 []">Register now for CultureQuest® 2026, a fast-paced team competition that challenges your cultural literacy across film, history, literature, music, and more. Teams of up to five Mensans compete nationwide for cash prizes and bragging rights — all in one fun-filled day.\n\nMore Information: https://www.us.mensa.org/attend/calendar/entries/culturequest-xxxvii
URL:https://www.us.mensa.org/attend/calendar/entries/culturequest-xxxvii
END:VEVENT
END:VCALENDAR