BEGIN:VCALENDAR
VERSION:2.0
PRODID:-//ZContent.net//Zap Calendar 1.0//EN
CALSCALE:GREGORIAN
METHOD:PUBLISH
BEGIN:VTIMEZONE
TZID:Dateline Standard Time
BEGIN:STANDARD
DTSTART:16010101T000000
TZOFFSETFROM:-1200
TZOFFSETTO:-1200
END:STANDARD
END:VTIMEZONE
BEGIN:VEVENT
SUMMARY:Theodore Talk: Language Processing in the Brain Across Diverse Languages and Speakers
UID:D62783B0-FDFE-4743-BD07C2DED979F112
SEQUENCE:0
STATUS:CONFIRMED
TRANSP:TRANSPARENT
DTSTART;TZID=US/Central:20260426T143000
DTEND;TZID=US/Central:20260426T153000
CATEGORIES:Virtual meeting
LOCATION:
DESCRIPTION:What does the brain really do with language? Neuroscientist Saima Malik-Moraleda explores how the brain processes dozens of natural and constructed languages — across monolinguals, bilinguals, and polyglots — revealing a surprisingly universal language network shaped more by proficiency than by the language itself.\n\nMore Information: https://www.us.mensa.org/attend/calendar/entries/theodore-talk-language-processing-in-the-brain-across-diverse-languages-and-speakers
URL:https://www.us.mensa.org/attend/calendar/entries/theodore-talk-language-processing-in-the-brain-across-diverse-languages-and-speakers
END:VEVENT
END:VCALENDAR