BEGIN:VCALENDAR
VERSION:2.0
PRODID:-//ZContent.net//Zap Calendar 1.0//EN
CALSCALE:GREGORIAN
METHOD:PUBLISH
BEGIN:VTIMEZONE
TZID:Dateline Standard Time
BEGIN:STANDARD
DTSTART:16010101T000000
TZOFFSETFROM:-1200
TZOFFSETTO:-1200
END:STANDARD
END:VTIMEZONE
BEGIN:VEVENT
SUMMARY:WPAM 2026 RG
UID:259FB992-2CAC-44E3-936189226719BA0A
SEQUENCE:0
STATUS:CONFIRMED
TRANSP:TRANSPARENT
DTSTART;TZID=US/Eastern:20260911T150000
DTEND;TZID=US/Eastern:20260913T120000
CATEGORIES:Regional Gathering
LOCATION:Pittsburgh, PA
DESCRIPTION:Join us in Pittsburgh, PA for a lively weekend of ideas and play! Enjoy engaging speakers, discover new board games, compete in tournaments, and put your trivia skills to the test — all while connecting with fellow Mensans.\n\nMore Information: https://www.us.mensa.org/attend/calendar/entries/gathering-pending-title484
URL:https://www.us.mensa.org/attend/calendar/entries/gathering-pending-title484
END:VEVENT
END:VCALENDAR