BEGIN:VCALENDAR
VERSION:2.0
PRODID:-//ZContent.net//Zap Calendar 1.0//EN
CALSCALE:GREGORIAN
METHOD:PUBLISH
BEGIN:VTIMEZONE
TZID:Dateline Standard Time
BEGIN:STANDARD
DTSTART:16010101T000000
TZOFFSETFROM:-1200
TZOFFSETTO:-1200
END:STANDARD
END:VTIMEZONE
BEGIN:VEVENT
SUMMARY:Mad Genius Laboratory Mini-RG
UID:25902F7F-8FFA-47F6-A707E6B3C80AE87C
SEQUENCE:0
STATUS:CONFIRMED
TRANSP:TRANSPARENT
DTSTART;TZID=US/Central:20260425T090000
DTEND;TZID=US/Central:20260425T210000
CATEGORIES:Regional Gathering
LOCATION:St Louis, MO
DESCRIPTION:Join us for the Mad Genius Laboratory Mini-RG and enjoy a full day of food, games, puzzles, and engaging talks — from science fiction to the future of tech — ending with a keynote after dinner. Come for the brains, stay for the fun!\n\nMore Information: https://www.us.mensa.org/attend/calendar/entries/gathering-pending-title482
URL:https://www.us.mensa.org/attend/calendar/entries/gathering-pending-title482
END:VEVENT
END:VCALENDAR