BEGIN:VCALENDAR
VERSION:2.0
PRODID:-//ZContent.net//Zap Calendar 1.0//EN
CALSCALE:GREGORIAN
METHOD:PUBLISH
BEGIN:VTIMEZONE
TZID:Dateline Standard Time
BEGIN:STANDARD
DTSTART:16010101T000000
TZOFFSETFROM:-1200
TZOFFSETTO:-1200
END:STANDARD
END:VTIMEZONE
BEGIN:VEVENT
SUMMARY:EMSC 2026 - European Mensa Science Camp
UID:DBE1E09D-B580-4D66-8596D0F4F236BCBE
SEQUENCE:0
STATUS:CONFIRMED
TRANSP:TRANSPARENT
DTSTART;TZID=Europe/Amsterdam:20260719T010000
DTEND;TZID=Europe/Amsterdam:20260726T010000
CATEGORIES:International Meeting
LOCATION:Milow, Germany
DESCRIPTION:Registration is now open for European Mensa Science Camp 2026 (July 19–26 in Milow, Germany)! Designed for curious youth ages 12–19, this international camp blends science, technology, hands-on projects, and fun — bringing together Mensa friends from around the world for a week of learning, teamwork, and adventure.\n\nMore Information: https://www.us.mensa.org/attend/calendar/entries/emsc-2026-european-mensa-science-camp
URL:https://www.us.mensa.org/attend/calendar/entries/emsc-2026-european-mensa-science-camp
END:VEVENT
END:VCALENDAR