BEGIN:VCALENDAR
VERSION:2.0
PRODID:-//ZContent.net//Zap Calendar 1.0//EN
CALSCALE:GREGORIAN
METHOD:PUBLISH
BEGIN:VTIMEZONE
TZID:Dateline Standard Time
BEGIN:STANDARD
DTSTART:16010101T000000
TZOFFSETFROM:-1200
TZOFFSETTO:-1200
END:STANDARD
END:VTIMEZONE
BEGIN:VEVENT
SUMMARY:Theodore Talk: National Cowgirl Museum and Hall of Fame
UID:CC034856-9F11-404E-A586516A423B0202
SEQUENCE:0
STATUS:CONFIRMED
TRANSP:TRANSPARENT
DTSTART;TZID=US/Central:20260524T143000
DTEND;TZID=US/Central:20260524T153000
CATEGORIES:Virtual meeting
LOCATION:
DESCRIPTION:Saddle up for a lively look at cowgirl history and culture with Bethany Dodson of the National Cowgirl Museum & Hall of Fame. Enjoy a virtual tour, unforgettable stories of trailblazing women, and a preview of the museum’s major expansion opening in 2026.\n\nMore Information: https://www.us.mensa.org/attend/calendar/entries/theodore-talk-national-cowgirl-museum-and-hall-of-fame
URL:https://www.us.mensa.org/attend/calendar/entries/theodore-talk-national-cowgirl-museum-and-hall-of-fame
END:VEVENT
END:VCALENDAR