BEGIN:VCALENDAR
VERSION:2.0
PRODID:-//ZContent.net//Zap Calendar 1.0//EN
CALSCALE:GREGORIAN
METHOD:PUBLISH
BEGIN:VTIMEZONE
TZID:Dateline Standard Time
BEGIN:STANDARD
DTSTART:16010101T000000
TZOFFSETFROM:-1200
TZOFFSETTO:-1200
END:STANDARD
END:VTIMEZONE
BEGIN:VEVENT
SUMMARY:SPY GAMES 2026
UID:486F82E1-0DE4-42B7-8A444C85F9B425ED
SEQUENCE:0
STATUS:CONFIRMED
TRANSP:TRANSPARENT
DTSTART;TZID=US/Eastern:20260502T080000
DTEND;TZID=US/Eastern:20260502T170000
CATEGORIES:Community Event
LOCATION:Mechanicville, NY
DESCRIPTION:Join us for an escape room style, city-wide scavenger hunt. Your team of spies competes against other teams to be the first to complete the mission. You need to solve clues, determine who is a contact or who is just a regular citizen out for a walk with their dog ... the stakes are high and time is short. Can you complete the mission and save the day?\n\nMore Information: https://www.us.mensa.org/attend/calendar/entries/gathering-pending-title483
URL:https://www.us.mensa.org/attend/calendar/entries/gathering-pending-title483
END:VEVENT
END:VCALENDAR