BEGIN:VCALENDAR
VERSION:2.0
PRODID:-//ZContent.net//Zap Calendar 1.0//EN
CALSCALE:GREGORIAN
METHOD:PUBLISH
BEGIN:VTIMEZONE
TZID:Dateline Standard Time
BEGIN:STANDARD
DTSTART:16010101T000000
TZOFFSETFROM:-1200
TZOFFSETTO:-1200
END:STANDARD
END:VTIMEZONE
BEGIN:VEVENT
SUMMARY:Mensa Foundation Colloquium 2026
UID:0ACDD898-AA17-42DA-AEAEB8CFA56512A3
SEQUENCE:0
STATUS:CONFIRMED
TRANSP:TRANSPARENT
DTSTART;TZID=US/Central:20260630T130000
DTEND;TZID=US/Central:20260630T170000
CATEGORIES:Community Event
LOCATION:
DESCRIPTION:Registration now for Colloquium 2026: "Brain Health Across the Lifespan." Join the Mensa Foundation on June 30 at the Omni Hotel in Fort Worth for their flagship event, exploring how to protect and strengthen brain health from before birth through late life.\n\nMore Information: https://www.us.mensa.org/attend/calendar/entries/mensa-foundation-colloquium-20262
URL:https://www.us.mensa.org/attend/calendar/entries/mensa-foundation-colloquium-20262
END:VEVENT
END:VCALENDAR