BEGIN:VCALENDAR
VERSION:2.0
PRODID:-//ZContent.net//Zap Calendar 1.0//EN
CALSCALE:GREGORIAN
METHOD:PUBLISH
BEGIN:VTIMEZONE
TZID:Dateline Standard Time
BEGIN:STANDARD
DTSTART:16010101T000000
TZOFFSETFROM:-1200
TZOFFSETTO:-1200
END:STANDARD
END:VTIMEZONE
BEGIN:VEVENT
SUMMARY:Theodore Talk: How to Communicate with Someone Who Disagrees with You
UID:DAAF4445-C7CA-477D-96FEE4FC3091BC22
SEQUENCE:0
STATUS:CONFIRMED
TRANSP:TRANSPARENT
DTSTART;TZID=US/Central:20260927T143000
DTEND;TZID=US/Central:20260927T153000
CATEGORIES:Virtual meeting
LOCATION:
DESCRIPTION:Disagreement doesn’t have to mean deadlock. In this engaging talk, Mensan Jenny Grant Rankin, PhD, reveals what’s really happening in the brain when people resist ideas — and how to communicate in ways that lower defenses and open minds. Blending research, storytelling, and practical strategies, she shows how to persuade even the most skeptical audiences and create more productive, respectful conversations.\n\nMore Information: https://www.us.mensa.org/attend/calendar/entries/theodore-talk-how-to-communicate-with-someone-who-disagrees-with-you
URL:https://www.us.mensa.org/attend/calendar/entries/theodore-talk-how-to-communicate-with-someone-who-disagrees-with-you
END:VEVENT
END:VCALENDAR