BEGIN:VCALENDAR
VERSION:2.0
PRODID:-//ZContent.net//Zap Calendar 1.0//EN
CALSCALE:GREGORIAN
METHOD:PUBLISH
BEGIN:VTIMEZONE
TZID:Dateline Standard Time
BEGIN:STANDARD
DTSTART:16010101T000000
TZOFFSETFROM:-1200
TZOFFSETTO:-1200
END:STANDARD
END:VTIMEZONE
BEGIN:VEVENT
SUMMARY:Level Up! Meeting People Where They Are: Reframing as a Tool for Effective Leadership
UID:C70726F1-49D2-405A-A009C90A27C59EA5
SEQUENCE:0
STATUS:CONFIRMED
TRANSP:TRANSPARENT
DTSTART;TZID=US/Central:20260506T190000
DTEND;TZID=US/Central:20260506T200000
CATEGORIES:Leadership Workshop
LOCATION:
DESCRIPTION:What if leadership is less about changing the job and more about changing how it’s seen? Discover cognitive reframing as a powerful, research-backed way to help people find meaning — and thrive.\n\nMore Information: https://www.us.mensa.org/attend/calendar/entries/level-up-meeting-people-where-they-are-reframing-as-a-tool-for-effective-leadership
URL:https://www.us.mensa.org/attend/calendar/entries/level-up-meeting-people-where-they-are-reframing-as-a-tool-for-effective-leadership
END:VEVENT
END:VCALENDAR