BEGIN:VCALENDAR
VERSION:2.0
PRODID:-//ZContent.net//Zap Calendar 1.0//EN
CALSCALE:GREGORIAN
METHOD:PUBLISH
BEGIN:VTIMEZONE
TZID:Dateline Standard Time
BEGIN:STANDARD
DTSTART:16010101T000000
TZOFFSETFROM:-1200
TZOFFSETTO:-1200
END:STANDARD
END:VTIMEZONE
BEGIN:VEVENT
SUMMARY:Theodore Talk: Wild Boar to Baconfest: Pigs in History and Culture
UID:58118515-D080-4C2D-A48244D9B6D961B9
SEQUENCE:0
STATUS:CONFIRMED
TRANSP:TRANSPARENT
DTSTART;TZID=US/Central:20260823T143000
DTEND;TZID=US/Central:20260823T153000
CATEGORIES:Virtual meeting
LOCATION:
DESCRIPTION:Pigs have shaped human diets and culture for over 12,000 years, from medieval Europe to modern barbecue. Food historian Cynthia Clampitt explores their culinary, cultural, and historical impact — from blood sausage to bacon — highlighting both their delights and challenges.\n\nMore Information: https://www.us.mensa.org/attend/calendar/entries/theodore-talk-wild-boar-to-baconfest-pigs-in-history-and-culture
URL:https://www.us.mensa.org/attend/calendar/entries/theodore-talk-wild-boar-to-baconfest-pigs-in-history-and-culture
END:VEVENT
END:VCALENDAR