BEGIN:VCALENDAR
VERSION:2.0
PRODID:-//ZContent.net//Zap Calendar 1.0//EN
CALSCALE:GREGORIAN
METHOD:PUBLISH
BEGIN:VTIMEZONE
TZID:Dateline Standard Time
BEGIN:STANDARD
DTSTART:16010101T000000
TZOFFSETFROM:-1200
TZOFFSETTO:-1200
END:STANDARD
END:VTIMEZONE
BEGIN:VEVENT
SUMMARY:SCUBA SIG Dives Cozumel
UID:743CF0D4-A3AB-4D5C-9FC63A28DFE6EF1C
SEQUENCE:0
STATUS:CONFIRMED
TRANSP:TRANSPARENT
DTSTART;TZID=US/Eastern:20261202T010000
DTEND;TZID=US/Eastern:20261209T010000
CATEGORIES:Local Group Meeting
LOCATION:Cozumel, TX
DESCRIPTION:Join the SCUBA SIG for a Cozumel tradition more than 20 years in the making. Enjoy relaxed drift dives, vibrant marine life, and plenty of fun with fellow Mensans — while non-divers and non-Mensans are always welcome to come along for the adventure.\n\nMore Information: https://www.us.mensa.org/attend/calendar/entries/gathering-pending-title498
URL:https://www.us.mensa.org/attend/calendar/entries/gathering-pending-title498
END:VEVENT
END:VCALENDAR