BEGIN:VCALENDAR
VERSION:2.0
PRODID:-//americanmensa.org//Event Calendar 1.0//EN
CALSCALE:GREGORIAN
METHOD:PUBLISH
BEGIN:VEVENT
SUMMARY:Charlotte - Blue Ridge Mensa - Test Session
UID:1776780265725014B436E2F180CC7733D662FF3A6CB7B
SEQUENCE:0
STATUS:CONFIRMED
TRANSP:TRANSPARENT
DTSTART:20240418T180000
DTEND:20240418T200000
DTSTAMP:20260421T090425
LOCATION:Sonesta Charlotte Executive Park 5700 Westpark Drive Charlotte, NC
  28217
DESCRIPTION:Testing group: Charlotte - Blue Ridge MensaProctor: Campbell, N
 a
 ncy MAdditional Information: This testing session will be just 
 prio
 r to Mind Games, a gaming weekend par excellence.  Come and
  test from 6
  pm to 8 pm, then linger and play board games with 
 Mensa Select board g
 ames chosen at previous Mind Games events. 
  Just FYI, this session will
  be 50% off -- only $30.00.  Be sur
 e to use the coupon code MindGames w
 hen checking out if you wan
 t the 50% discount (might not appear till th
 e last page.)
X-ALT-DESC;FMTTYPE=text/html:<p><strong>Testing group:</strong> Charlotte 
 - Blue Ridge Mensa</p><p><strong>Proctor:</s
 trong> Campbell, Nancy M</p><p><strong>Addit
 ional Information:</strong> This testing ses
 sion will be just prior to Mind Games, a gam
 ing weekend par excellence.  Come and test f
 rom 6 pm to 8 pm, then linger and play board
  games with Mensa Select board games chosen 
 at previous Mind Games events.  Just FYI, th
 is session will be 50% off -- only $30.00.  
 Be sure to use the coupon code MindGames whe
 n checking out if you want the 50% discount 
 (might not appear till the last page.)</p>
URL:https://www.us.mensa.org/join/testing/testing-calendar/charlotte-nc12
END:VEVENT
END:VCALENDAR